Workbook

Sheet 1-报价单
A1: 报价单
A2: 序号 | B2: 产品名称 | C2: 品牌 | D2: 规格型号 | E2: 产地 | F2: 注册证号 | G2: 数量 | H2: 单价 （万元） | I2: 总价 （万元） | J2: 制造商名称 | K2: 制造商规模 | L2: 制造商联系方式 | M2: 设备使用年限 | N2: 质保年限 | O2: 质保期内是否整机全保
A3: 1 | I3: =G3*H3 -> 0
A4: 2
A5: 3 | I5: =G5*H5 -> 0
A6: 注： 1、本次报价为设备含税价格包括了货物从出厂到保修期内维修维护以及运输、税费等一切费用。 2、本次供应商的调研响应报价不代表最终投标价格。
A7: 报名供应商名称（加盖公章）： | I7: 是否中小企业： | M7: 联系方式：

Sheet 2-1（除颤监护仪）配置清单
A1: （除颤监护仪）产品配置清单
A2: 产品名称： | B2: ='1-报价单'!B3 -> 0
A3: 序号 | B3: 名称 | C3: 品牌 | D3: 型号规格 | E3: 产地 | F3: 数量 | G3: 单位 | H3: 单价 （万元） | I3: 总价 （万元）
A4: 1 | I4: =F4*H4 -> 0
A5: 2 | I5: =F5*H5 -> 0
A6: 3 | I6: =F6*H6 -> 0
A7: 4 | I7: =F7*H7 -> 0
A8: 5 | I8: =F8*H8 -> 0
A9: 6 | I9: =F9*H9 -> 0
A10: 7 | I10: =F10*H10 -> 0
A11: 8 | I11: =F11*H11 -> 0
A12: 9 | I12: =F12*H12 -> 0
A13: 10 | I13: =F13*H13 -> 0
A15: 报名供应商名称（加盖公章）：

Sheet 3-1（除颤监护仪）后续采购情况
A1: （除颤监护仪）后续采购情况
A2: 产品名称： | B2: ='1-报价单'!B3 -> 0 | C2: 报价产品品牌： | D2: ='1-报价单'!C3 -> 0 | F2: 报价产品型号： | G2: ='1-报价单'!D3 -> 0
A3: 表1 可选配置、易损件
A4: 序号 | B4: 名称 | C4: 品牌 | D4: 型号 | E4: 配置规格 | F4: 数量 | G4: 单位 | H4: 单价（元）
A10: 备注
A11: 注：如无需备品备件，在备注处说明：无备品备件内容。
A13: 表2 零配件、消耗品报价明清单
A14: 序号 | B14: 货物名称 | C14: 规格及型号 | D14: 原产地 | E14: 品牌 | F14: 数量 | G14: 折扣后单价（元）
A20: 表3 保修期后的保修费用
A21: 保修期满后每年费用 | C21: 金额或比例 | D21: 备注
A22: 第1年
A23: 第2年
A24: 第3年
A25: 备注： 1.供应商对提供的产品在保修期满后，每增加一年的保修服务，所需费用进行填写。 2.填写内容可以是具体金额或以原设备采购合同总价为基准，填写比例（如3%等）。
A27: 报名供应商名称（加盖公章）：

Sheet 4-1（除颤监护仪）参数要求响应情况
A1: （除颤监护仪）参数要求响应情况
A2: 报名供应商名称（加盖公章）：
A3: 产品名称： | B3: ='1-报价单'!B3 -> 0
A4: 品牌： | B4: ='1-报价单'!C3 -> 0
A5: 型号： | B5: ='1-报价单'!D3 -> 0
A7: 序号 | B7: 需求参数要求 | D7: 供应商响应参数 （请填写产品实际参数） | E7: 响应程度 | F7: 备注
A8: 1 | B8: 基本功能要求 | C8: 具备手动除颤、心电监护、呼吸监护、自动体外除颤（AED）功能， AED功能适用于29天以上人群。 | F8: 需提交技术佐证材料并标记响应参数对应位置
A9: 2 | B9: 屏幕要求 | C9: 彩色电容触摸屏≥8英寸, 分辨率1024×768像素，可显示≥5通道监护参数波形，支持手势操作、自动亮度调节
A10: 3 | B10: 图形化指引功能 | C10: 提供图形化故障排除指引，快速解决设备故障。
A11: 4 | B11: 心电波形要求 | C11: 屏幕显示心电波形扫描时间≥36s 。
A12: 5 | B12: 电极板功能要求 | C12: 电极板支持能量选择，充电和放电三步操作，满足单人除颤操作 | F12: 需提交技术佐证材料并标记响应参数对应位置
A13: 6 | B13: 除颤充电速度要求 | C13: 除颤充电迅速，充电至200J≤4s
A14: 7 | B14: 防尘防水性能要求 | C14: 具备良好的防尘防水性能，防尘防水级别IP55
A15: 8 | B15: 培训模式 | C15: 支持培训模式，包含CPR操作培训、抢救操作培训；可提供培训考核系统，支持多台设备同时接入进行在线培训、考核。
A16: 9 | B16: 除颤技术 | C16: 除颤采用双相波技术，具备自动阻抗补偿功能。 | D16: 2
A17: 10 | B17: 除颤功能及能量要求 | C17: 手动除颤分为同步和非同步两种方式，能量分20档以上，可通过体外电极板进行能量选择，最大能量可达360J
A18: 11 | B18: 开机速度要求 | C18: 开机到可正常使用时间≤2s，满足急救场景需求。
A19: 12 | B19: 阻抗显示要求 | C19: 支持病人接触状态和阻抗值实时显示 | F19: 需提交技术佐证材料并标记响应参数对应位置
A20: 13 | B20: 智能分析功能 | C20: 支持智能分析功能，手动除颤模式下也可提供自动节律分析和操作指引
A21: 14 | B21: 心律失常分析要求 | C21: 通过心电电极片可监测的心律失常分析种类≥27种
A22: 15 | B22: 电池功能性要求 | C22: 可支持200J除颤≥300次 | F22: 需提交技术佐证材料并标记响应参数对应位置
A23: 16 | B23: 报警要求 | C23: 具备生理报警和技术报警功能，通过声音、文字和灯光3种方式进行报警
A24: 17 | B24: 存储要求 | C24: 可存储120小时连续ECG波形，数据可导出至电脑查看
A25: 18 | B25: 设备自检功能 | C25: 关机状态下设备支持每天定时自动运行自检（含监护模块和治疗模块），支持定期自动大能量自检（最大放电能量） | F25: 需提交技术佐证材料并标记响应参数对应位置
A26: 19 | B26: 抗跌落性能要求 | C26: 具备优异的抗跌落性能，满足救护车标准EN1789 中6.3.4.3 关于跌落试验的要求，裸机可承受0.75米跌落冲击,适应急救多场景需求
A27: 20 | B27: 联网通信要求 | C27: 支持提供IHE HL7协议，满足院前院内急救系统的联网通信
A28: 21 | B28: 轻量化要求 | C28: 重量：≤4.5kg（含电池）
A29: 序号 | B29: 配置清单（单台） | D29: 供应商响应参数 （请填写产品实际参数） | E29: 响应程度 | F29: 备注
A30: 1 | B30: 除颤仪主机 | C30: 1台
A31: 2 | B31: 锂电池 | C31: 1块
A32: 3 | B32: 心电导联线 | C32: 1套
A33: 4 | B33: 血氧传感器 | C33: 1条
A34: 5 | B34: 无创血压袖带 | C34: 1条
A35: 6 | B35: 无创血压导气管 | C35: 1条
A36: 7 | B36: 血氧主电缆 | C36: 1条
A37: 8 | B37: 除颤电极片 | C37: 1对
A38: 9 | B38: 三芯电源线 | C38: 1条
A39: 10 | B39: 使用说明书 | C39: 1本
A40: 11 | B40: WIFI模块 | C40: 1项
A41: 序号 | B41: 商务要求 | D41: 供应商响应参数 （请填写产品实际参数） | E41: 响应程度 | F41: 备注
...

Sheet 2-2 （便携式监护仪）配置清单
A1: （便携式监护仪）产品配置清单
A2: 产品名称： | B2: ='1-报价单'!B4 -> 0
A3: 序号 | B3: 名称 | C3: 品牌 | D3: 型号规格 | E3: 产地 | F3: 数量 | G3: 单位 | H3: 单价 （万元） | I3: 总价 （万元）
A4: 1 | I4: =F4*H4 -> 0
A5: 2 | I5: =F5*H5 -> 0
A6: 3 | I6: =F6*H6 -> 0
A7: 4 | I7: =F7*H7 -> 0
A8: 5 | I8: =F8*H8 -> 0
A9: 6 | I9: =F9*H9 -> 0
A10: 7 | I10: =F10*H10 -> 0
A11: 8 | I11: =F11*H11 -> 0
A12: 9 | I12: =F12*H12 -> 0
A13: 10 | I13: =F13*H13 -> 0
A15: 报名供应商名称（加盖公章）：

Sheet 3-2（便携式监护仪）后续采购情况
A1: （便携式监护仪）后续采购情况
A2: 产品名称： | B2: ='1-报价单'!B4 -> 0 | C2: 报价产品品牌： | D2: ='1-报价单'!C4 -> 0 | F2: 报价产品型号： | G2: ='1-报价单'!D4 -> 0
A3: 表1 可选配置、易损件
A4: 序号 | B4: 名称 | C4: 品牌 | D4: 型号 | E4: 配置规格 | F4: 数量 | G4: 单位 | H4: 单价（元）
A10: 备注
A11: 注：如无需备品备件，在备注处说明：无备品备件内容。
A13: 表2 零配件、消耗品报价明清单
A14: 序号 | B14: 货物名称 | C14: 规格及型号 | D14: 原产地 | E14: 品牌 | F14: 数量 | G14: 折扣后单价（元）
A20: 表3 保修期后的保修费用
A21: 保修期满后每年费用 | C21: 金额或比例 | D21: 备注
A22: 第1年
A23: 第2年
A24: 第3年
A25: 备注： 1.供应商对提供的产品在保修期满后，每增加一年的保修服务，所需费用进行填写。 2.填写内容可以是具体金额或以原设备采购合同总价为基准，填写比例（如3%等）。
A27: 报名供应商名称（加盖公章）：

Sheet 4-2（便携式监护仪）参数要求响应情况
A1: （便携式监护仪）参数要求响应情况
A2: 报名供应商名称（加盖公章）：
A3: 产品名称： | B3: ='1-报价单'!B4 -> 0
A4: 品牌： | B4: ='1-报价单'!C4 -> 0
A5: 型号： | B5: ='1-报价单'!D4 -> 0
A7: 序号 | B7: 需求参数要求 | D7: 供应商响应参数 （请填写产品实际参数） | E7: 响应程度 | F7: 备注
A8: 1 | B8: 模块化监护仪 | C8: 模块化监护仪，主机具有插件槽，可支持IBP，CO2，AG和BIS任意参数模块的即插即用快速扩展临床应用 | F8: 需提交技术佐证材料并标记响应参数对应位置
A9: 2 | B9: 无风扇设计 | C9: 整机无风扇设计，防水等级IPX1或更高
A10: 3 | B10: 屏幕要求 | C10: 不小于12.1英寸彩色液晶电容触摸屏，分辨率高达1280*800像素或更高，10通道波形显示。显示屏可支持亮度自动调节功能。 | F10: 需提交技术佐证材料并标记响应参数对应位置
A11: 4 | B11: 便利性设计 | C11: 屏幕倾斜10~15度设计，符合人机工程学，便于临床团队观察和操作
A12: 5 | B12: 电池要求 | C12: 内置锂电池，插槽式设计，无需螺丝刀工具支持快速拆卸和安装。锂电池支持监护仪工作时间≥4小时 | F12: 需提交技术佐证材料并标记响应参数对应位置
A13: 6 | B13: 安全规格 | C13: 安全规格：ECG, TEMP, IBP, SpO2 , NIBP监测参数抗电击程度为防除颤CF型
A14: 7 | B14: 基本功能要求 | C14: 配置3/5导心电，呼吸，无创血压，血氧饱和度，脉搏和双通道体温参数监测
A15: 8 | B15: 心电监护要求 | C15: 心电监护支持心率，ST段测量，心律失常分析，QT/QTc连续实时测量和对应报警功能
A16: 9 | B16: ST片段的同屏实时显示 | C16: 提供窗口支持心脏下壁，侧壁和前壁对应多个ST片段的同屏实时显示，提供参考片段和实时片段的对比查看
A17: 10 | B17: 心律失常分析 | C17: 支持不少于20种心律失常分析,包括房颤分析
A18: 11 | B18: 心电概览报告 | C18: 支持升级提供过去24小时心电概览报告查看与打印，包括心率统计结果，心律失常统计结果，ST统计和QT/QTc统计结果
A19: 12 | B19: 体温和温差参数 | C19: 提供双通道体温和温差参数的监测, 并可根据需要更改体温通道标名
A20: 13 | B20: 辅助静脉穿刺 | C20: 具备辅助静脉穿刺功能
A21: 14 | B21: 移动监护参数 | C21: 支持升级移动监护功能，支持非生理参数监测，如运动时间、夜间静息时间和疼痛评分，监测数据通过无线发送至监护仪。
A22: 15 | B22: 移动监护防护技术 | C22: 移动监护模块采用防水抗摔设计，防水等级IPX2或更高，通过1.5米6面跌落测试
A23: 16 | B23: 图形化指引 | C23: 具有图形化技术报警指示功能，帮助医护团队快速识别报警来源
A24: 17 | B24: 存储功能 | C24: 1000条事件回顾。每条报警事件至少能够存储32秒三道相关波形，以及报警触发时所有测量参数值
... A27: 20 | B27: 异常趋势信息 | C27: 动态趋势界面可支持统计1-24小时心律失常报警、参数超限报警信息，并对超限报警区间的波形进行高亮显示，帮助医护人员快速识别异常趋势信息
A28: 序号 | B28: 配置清单（单台） | D28: 供应商响应参数 （请填写产品实际参数） | E28: 响应程度 | F28: 备注
A29: 1 | B29: 监护仪主机 | C29: 1台
A30: 2 | B30: 心电导联线 | C30: 1条
A31: 3 | B31: 心电电极片 | C31: 1套
A32: 4 | B32: 血氧主电缆 | C32: 1条
A33: 5 | B33: 成人血氧探头 | C33: 1个
A34: 6 | B34: 无创血压导气管 | C34: 1条
A35: 7 | B35: 成人血压袖套（成人、小儿、新生儿各1个为1套） | C35: 1套
A36: 8 | B36: 锂电池 | C36: 1块
A37: 9 | B37: 三芯电源线 | C37: 1条
A38: 序号 | B38: 商务要求 | D38: 供应商响应参数 （请填写产品实际参数） | E38: 响应程度 | F38: 备注
A39: 1 | B39: 保修期：5年
A40: 2 | B40: 交货期：30天
